BEGIN:VCALENDAR
VERSION:2.0
PRODID:-//NAAAP Atlanta - ECPv6.15.11//NONSGML v1.0//EN
CALSCALE:GREGORIAN
METHOD:PUBLISH
X-ORIGINAL-URL:https://atl.naaap.org
X-WR-CALDESC:Events for NAAAP Atlanta
REFRESH-INTERVAL;VALUE=DURATION:PT1H
X-Robots-Tag:noindex
X-PUBLISHED-TTL:PT1H
BEGIN:VTIMEZONE
TZID:America/New_York
BEGIN:DAYLIGHT
TZOFFSETFROM:-0500
TZOFFSETTO:-0400
TZNAME:EDT
DTSTART:20250309T070000
END:DAYLIGHT
BEGIN:STANDARD
TZOFFSETFROM:-0400
TZOFFSETTO:-0500
TZNAME:EST
DTSTART:20251102T060000
END:STANDARD
BEGIN:DAYLIGHT
TZOFFSETFROM:-0500
TZOFFSETTO:-0400
TZNAME:EDT
DTSTART:20260308T070000
END:DAYLIGHT
BEGIN:STANDARD
TZOFFSETFROM:-0400
TZOFFSETTO:-0500
TZNAME:EST
DTSTART:20261101T060000
END:STANDARD
BEGIN:DAYLIGHT
TZOFFSETFROM:-0500
TZOFFSETTO:-0400
TZNAME:EDT
DTSTART:20270314T070000
END:DAYLIGHT
BEGIN:STANDARD
TZOFFSETFROM:-0400
TZOFFSETTO:-0500
TZNAME:EST
DTSTART:20271107T060000
END:STANDARD
END:VTIMEZONE
BEGIN:VEVENT
DTSTART;TZID=America/New_York:20260520T183000
DTEND;TZID=America/New_York:20260520T203000
DTSTAMP:20260424T045101
CREATED:20260312T035226Z
LAST-MODIFIED:20260406T232039Z
UID:13848-1779301800-1779309000@atl.naaap.org
SUMMARY:AJC ACCESS x NAAAP Mahjong Night
DESCRIPTION:Join NAAAP & AJC Access for Mahjong Night! Learn Chinese Mahjong from an instructor\, play a round\, or watch and connect with the community! \n\n\n\n\nNAAAP Atlanta is excited to partner with AJC ACCESS for a special evening celebrating culture\, community\, and connection through Mahjong. \nMahjong\, a tile-based game originating in China in the 1800s\, has since spread around the world. Known for its strategy\, social nature\, and beautiful tiles\, Mahjong has long been played in homes\, tea houses\, and community spaces as a way for people to gather\, converse\, and build relationships. \nIn the early 20th century\, the game was introduced to the U.S. and quickly gained popularity. By the 1930s and 1940s\, Mahjong had become especially popular within Jewish American communities. Playing Mahjong became a cherished social tradition\, bringing friends and neighbors together. \nDuring this event\, a Mahjong instructor will introduce attendees to the fundamentals of Chinese Mahjong. Beginners are warmly encouraged to attend—no prior experience is needed. Guests will have the option to join a table and learn to play or simply observe and enjoy the social atmosphere. \nCome learn something new\, meet other members of the community\, and enjoy a fun and culturally rich evening with NAAAP and ACCESS Atlanta. \nThis is a members only event\, please use your NAAAP email or AJC ACCESS access code to reveal hidden tickets \nEvent will take place in the Upper Westside of Atlanta. Exact address will be provided closer to the event. \nSnacks will be provided.
URL:https://atl.naaap.org/event/ajc-access-x-naaap-mahjong-night/
LOCATION:TBD
END:VEVENT
BEGIN:VEVENT
DTSTART;TZID=America/New_York:20260530T110000
DTEND;TZID=America/New_York:20260530T143000
DTSTAMP:20260424T045101
CREATED:20260312T035430Z
LAST-MODIFIED:20260312T035430Z
UID:13849-1780138800-1780151400@atl.naaap.org
SUMMARY:Field Day + Potluck
DESCRIPTION:Details coming soon…
URL:https://atl.naaap.org/event/field-day-potluck/
LOCATION:Park at Pernoshal Court\, 4575 N Shallowford Rd\, Dunwoody\, 30338\, United States
END:VEVENT
END:VCALENDAR